BEGIN:VCALENDAR
VERSION:2.0
PRODID:-//Formation Delta Neu - ECPv6.15.16//NONSGML v1.0//EN
CALSCALE:GREGORIAN
METHOD:PUBLISH
X-WR-CALNAME:Formation Delta Neu
X-ORIGINAL-URL:https://formation.delta-neu.fr
X-WR-CALDESC:Évènements pour Formation Delta Neu
REFRESH-INTERVAL;VALUE=DURATION:PT1H
X-Robots-Tag:noindex
X-PUBLISHED-TTL:PT1H
BEGIN:VTIMEZONE
TZID:Europe/Paris
BEGIN:DAYLIGHT
TZOFFSETFROM:+0100
TZOFFSETTO:+0200
TZNAME:CEST
DTSTART:20250330T010000
END:DAYLIGHT
BEGIN:STANDARD
TZOFFSETFROM:+0200
TZOFFSETTO:+0100
TZNAME:CET
DTSTART:20251026T010000
END:STANDARD
BEGIN:DAYLIGHT
TZOFFSETFROM:+0100
TZOFFSETTO:+0200
TZNAME:CEST
DTSTART:20260329T010000
END:DAYLIGHT
BEGIN:STANDARD
TZOFFSETFROM:+0200
TZOFFSETTO:+0100
TZNAME:CET
DTSTART:20261025T010000
END:STANDARD
BEGIN:DAYLIGHT
TZOFFSETFROM:+0100
TZOFFSETTO:+0200
TZNAME:CEST
DTSTART:20270328T010000
END:DAYLIGHT
BEGIN:STANDARD
TZOFFSETFROM:+0200
TZOFFSETTO:+0100
TZNAME:CET
DTSTART:20271031T010000
END:STANDARD
END:VTIMEZONE
BEGIN:VEVENT
DTSTART;TZID=Europe/Paris:20260309T100000
DTEND;TZID=Europe/Paris:20260313T123000
DTSTAMP:20260422T113101
CREATED:20210804T145249Z
LAST-MODIFIED:20251017T131639Z
UID:5338-1773050400-1773405000@formation.delta-neu.fr
SUMMARY:Dépoussiérage
DESCRIPTION:Vous accompagner pour appréhender le dépoussiérage du captage jusqu’au rejet. \nToutes les informations sur la formation :Formation Dépoussiérage
URL:https://formation.delta-neu.fr/session/depoussierage-5/
LOCATION:CEFAN – La Chapelle d’Armentières\, Rue ampère\, Parc d'activités de la Houssoye\, La Chapelle d'Armentières\, 59930\, France
CATEGORIES:Dépoussiérage long
ORGANIZER;CN="CEFAN":MAILTO:cefan@delta-neu.fr
END:VEVENT
END:VCALENDAR