BEGIN:VCALENDAR
VERSION:2.0
PRODID:-//Formation Delta Neu - ECPv6.15.16//NONSGML v1.0//EN
CALSCALE:GREGORIAN
METHOD:PUBLISH
X-WR-CALNAME:Formation Delta Neu
X-ORIGINAL-URL:https://formation.delta-neu.fr
X-WR-CALDESC:Évènements pour Formation Delta Neu
REFRESH-INTERVAL;VALUE=DURATION:PT1H
X-Robots-Tag:noindex
X-PUBLISHED-TTL:PT1H
BEGIN:VTIMEZONE
TZID:Europe/Paris
BEGIN:DAYLIGHT
TZOFFSETFROM:+0100
TZOFFSETTO:+0200
TZNAME:CEST
DTSTART:20190331T010000
END:DAYLIGHT
BEGIN:STANDARD
TZOFFSETFROM:+0200
TZOFFSETTO:+0100
TZNAME:CET
DTSTART:20191027T010000
END:STANDARD
BEGIN:DAYLIGHT
TZOFFSETFROM:+0100
TZOFFSETTO:+0200
TZNAME:CEST
DTSTART:20200329T010000
END:DAYLIGHT
BEGIN:STANDARD
TZOFFSETFROM:+0200
TZOFFSETTO:+0100
TZNAME:CET
DTSTART:20201025T010000
END:STANDARD
BEGIN:DAYLIGHT
TZOFFSETFROM:+0100
TZOFFSETTO:+0200
TZNAME:CEST
DTSTART:20210328T010000
END:DAYLIGHT
BEGIN:STANDARD
TZOFFSETFROM:+0200
TZOFFSETTO:+0100
TZNAME:CET
DTSTART:20211031T010000
END:STANDARD
END:VTIMEZONE
BEGIN:VEVENT
DTSTART;TZID=Europe/Paris:20200908T083000
DTEND;TZID=Europe/Paris:20200908T173000
DTSTAMP:20260425T220759
CREATED:20190702T115635Z
LAST-MODIFIED:20190729T153552Z
UID:4288-1599553800-1599586200@formation.delta-neu.fr
SUMMARY:ATEX Niveau 1
DESCRIPTION:
URL:https://formation.delta-neu.fr/session/atex-niveau-1-2/
LOCATION:CEFAN – La Chapelle d’Armentières\, Rue ampère\, Parc d'activités de la Houssoye\, La Chapelle d'Armentières\, 59930\, France
CATEGORIES:ATEX
ATTACH;FMTTYPE=image/jpeg:https://formation.delta-neu.fr/wp-content/uploads/2019/07/Atex-0-1.jpeg
ORGANIZER;CN="CEFAN":MAILTO:cefan@delta-neu.fr
END:VEVENT
BEGIN:VEVENT
DTSTART;TZID=Europe/Paris:20200914T083000
DTEND;TZID=Europe/Paris:20200918T173000
DTSTAMP:20260425T220759
CREATED:20190702T095034Z
LAST-MODIFIED:20191017T133521Z
UID:4260-1600072200-1600450200@formation.delta-neu.fr
SUMMARY:Dépoussiérage
DESCRIPTION:
URL:https://formation.delta-neu.fr/session/depoussierage-version-longue-4/
LOCATION:CEFAN – La Chapelle d’Armentières\, Rue ampère\, Parc d'activités de la Houssoye\, La Chapelle d'Armentières\, 59930\, France
CATEGORIES:Dépoussiérage long
ATTACH;FMTTYPE=image/jpeg:https://formation.delta-neu.fr/wp-content/uploads/2019/07/Depoussierage.jpg
ORGANIZER;CN="CEFAN":MAILTO:cefan@delta-neu.fr
END:VEVENT
BEGIN:VEVENT
DTSTART;TZID=Europe/Paris:20200921T083000
DTEND;TZID=Europe/Paris:20200924T173000
DTSTAMP:20260425T220759
CREATED:20190702T100252Z
LAST-MODIFIED:20191112T143511Z
UID:4273-1600677000-1600968600@formation.delta-neu.fr
SUMMARY:Ventilateurs
DESCRIPTION:
URL:https://formation.delta-neu.fr/session/ventilateurs-4/
LOCATION:CEFAN – La Chapelle d’Armentières\, Rue ampère\, Parc d'activités de la Houssoye\, La Chapelle d'Armentières\, 59930\, France
CATEGORIES:Ventilateurs
ATTACH;FMTTYPE=image/jpeg:https://formation.delta-neu.fr/wp-content/uploads/2019/07/ventilateurs-dimensionner.jpg
ORGANIZER;CN="CEFAN":MAILTO:cefan@delta-neu.fr
END:VEVENT
BEGIN:VEVENT
DTSTART;TZID=Europe/Paris:20200929T083000
DTEND;TZID=Europe/Paris:20201001T173000
DTSTAMP:20260425T220759
CREATED:20200722T121855Z
LAST-MODIFIED:20200824T141124Z
UID:4861-1601368200-1601573400@formation.delta-neu.fr
SUMMARY:Ventilation - Partie 1
DESCRIPTION:
URL:https://formation.delta-neu.fr/session/ventilation-partie-1-3/
LOCATION:CEFAN – La Chapelle d’Armentières\, Rue ampère\, Parc d'activités de la Houssoye\, La Chapelle d'Armentières\, 59930\, France
CATEGORIES:Ventilation & Conditionnement d'air- Partie 1
ATTACH;FMTTYPE=image/jpeg:https://formation.delta-neu.fr/wp-content/uploads/2019/07/ventilation-partie1.jpeg
ORGANIZER;CN="CEFAN":MAILTO:cefan@delta-neu.fr
END:VEVENT
END:VCALENDAR