BEGIN:VCALENDAR
VERSION:2.0
PRODID:-//Formation Delta Neu - ECPv6.15.16//NONSGML v1.0//EN
CALSCALE:GREGORIAN
METHOD:PUBLISH
X-WR-CALNAME:Formation Delta Neu
X-ORIGINAL-URL:https://formation.delta-neu.fr
X-WR-CALDESC:Évènements pour Formation Delta Neu
REFRESH-INTERVAL;VALUE=DURATION:PT1H
X-Robots-Tag:noindex
X-PUBLISHED-TTL:PT1H
BEGIN:VTIMEZONE
TZID:Europe/Paris
BEGIN:DAYLIGHT
TZOFFSETFROM:+0100
TZOFFSETTO:+0200
TZNAME:CEST
DTSTART:20190331T010000
END:DAYLIGHT
BEGIN:STANDARD
TZOFFSETFROM:+0200
TZOFFSETTO:+0100
TZNAME:CET
DTSTART:20191027T010000
END:STANDARD
BEGIN:DAYLIGHT
TZOFFSETFROM:+0100
TZOFFSETTO:+0200
TZNAME:CEST
DTSTART:20200329T010000
END:DAYLIGHT
BEGIN:STANDARD
TZOFFSETFROM:+0200
TZOFFSETTO:+0100
TZNAME:CET
DTSTART:20201025T010000
END:STANDARD
BEGIN:DAYLIGHT
TZOFFSETFROM:+0100
TZOFFSETTO:+0200
TZNAME:CEST
DTSTART:20210328T010000
END:DAYLIGHT
BEGIN:STANDARD
TZOFFSETFROM:+0200
TZOFFSETTO:+0100
TZNAME:CET
DTSTART:20211031T010000
END:STANDARD
END:VTIMEZONE
BEGIN:VEVENT
DTSTART;TZID=Europe/Paris:20201203T083000
DTEND;TZID=Europe/Paris:20201203T170000
DTSTAMP:20260425T163903
CREATED:20190718T080629Z
LAST-MODIFIED:20190729T153336Z
UID:4638-1606984200-1607014800@formation.delta-neu.fr
SUMMARY:Acoustique pour tous
DESCRIPTION:
URL:https://formation.delta-neu.fr/session/acoustique-pour-tous-4/
LOCATION:CETIM – CERMAT\, 21 Rue de Chemnitz\, Mulhouse\, 68200\, France
CATEGORIES:Acoustique pour tous
ATTACH;FMTTYPE=image/jpeg:https://formation.delta-neu.fr/wp-content/uploads/2019/07/acoustique-pour-tous.jpeg
ORGANIZER;CN="CEFAN":MAILTO:cefan@delta-neu.fr
END:VEVENT
BEGIN:VEVENT
DTSTART;TZID=Europe/Paris:20201207T083000
DTEND;TZID=Europe/Paris:20201211T173000
DTSTAMP:20260425T163903
CREATED:20190702T095127Z
LAST-MODIFIED:20191017T133529Z
UID:4262-1607329800-1607707800@formation.delta-neu.fr
SUMMARY:Dépoussiérage
DESCRIPTION:
URL:https://formation.delta-neu.fr/session/depoussierage-version-longue-5/
LOCATION:CEFAN – La Chapelle d’Armentières\, Rue ampère\, Parc d'activités de la Houssoye\, La Chapelle d'Armentières\, 59930\, France
CATEGORIES:Dépoussiérage long
ATTACH;FMTTYPE=image/jpeg:https://formation.delta-neu.fr/wp-content/uploads/2019/07/Depoussierage.jpg
ORGANIZER;CN="CEFAN":MAILTO:cefan@delta-neu.fr
END:VEVENT
BEGIN:VEVENT
DTSTART;TZID=Europe/Paris:20201214T083000
DTEND;TZID=Europe/Paris:20201216T173000
DTSTAMP:20260425T163903
CREATED:20190702T122437Z
LAST-MODIFIED:20190729T154039Z
UID:4313-1607934600-1608139800@formation.delta-neu.fr
SUMMARY:Maîtrise acoustique et réseaux ventilation
DESCRIPTION:
URL:https://formation.delta-neu.fr/session/maitrise-acoustique-et-reseaux-ventilation-2/
LOCATION:CETIAT Villeurbanne\, 25 Avenue des Arts\, Villeurbanne\, 69100\, France
CATEGORIES:Maîtrise de l'acoustique des réseaux de ventilation
ATTACH;FMTTYPE=image/jpeg:https://formation.delta-neu.fr/wp-content/uploads/2019/07/acoustique-reseaux-ventilation.jpg
ORGANIZER;CN="CEFAN":MAILTO:cefan@delta-neu.fr
END:VEVENT
END:VCALENDAR