BEGIN:VCALENDAR
VERSION:2.0
PRODID:-//Formation Delta Neu - ECPv6.15.16//NONSGML v1.0//EN
CALSCALE:GREGORIAN
METHOD:PUBLISH
X-ORIGINAL-URL:https://formation.delta-neu.fr
X-WR-CALDESC:Évènements pour Formation Delta Neu
REFRESH-INTERVAL;VALUE=DURATION:PT1H
X-Robots-Tag:noindex
X-PUBLISHED-TTL:PT1H
BEGIN:VTIMEZONE
TZID:Europe/Paris
BEGIN:DAYLIGHT
TZOFFSETFROM:+0100
TZOFFSETTO:+0200
TZNAME:CEST
DTSTART:20200329T010000
END:DAYLIGHT
BEGIN:STANDARD
TZOFFSETFROM:+0200
TZOFFSETTO:+0100
TZNAME:CET
DTSTART:20201025T010000
END:STANDARD
BEGIN:DAYLIGHT
TZOFFSETFROM:+0100
TZOFFSETTO:+0200
TZNAME:CEST
DTSTART:20210328T010000
END:DAYLIGHT
BEGIN:STANDARD
TZOFFSETFROM:+0200
TZOFFSETTO:+0100
TZNAME:CET
DTSTART:20211031T010000
END:STANDARD
BEGIN:DAYLIGHT
TZOFFSETFROM:+0100
TZOFFSETTO:+0200
TZNAME:CEST
DTSTART:20220327T010000
END:DAYLIGHT
BEGIN:STANDARD
TZOFFSETFROM:+0200
TZOFFSETTO:+0100
TZNAME:CET
DTSTART:20221030T010000
END:STANDARD
END:VTIMEZONE
BEGIN:VEVENT
DTSTART;VALUE=DATE:20210210
DTEND;VALUE=DATE:20210211
DTSTAMP:20260425T131023
CREATED:20201027T135816Z
LAST-MODIFIED:20210615T154120Z
UID:4904-1612915200-1613001599@formation.delta-neu.fr
SUMMARY:ATEX - Niveau 0
DESCRIPTION:
URL:https://formation.delta-neu.fr/session/atex-niveau-0-2/
LOCATION:CEFAN – La Chapelle d’Armentières\, Rue ampère\, Parc d'activités de la Houssoye\, La Chapelle d'Armentières\, 59930\, France
CATEGORIES:ATEX
ORGANIZER;CN="CEFAN":MAILTO:cefan@delta-neu.fr
END:VEVENT
END:VCALENDAR