BEGIN:VCALENDAR
VERSION:2.0
PRODID:-//Formation Delta Neu - ECPv6.15.16//NONSGML v1.0//EN
CALSCALE:GREGORIAN
METHOD:PUBLISH
X-WR-CALNAME:Formation Delta Neu
X-ORIGINAL-URL:https://formation.delta-neu.fr
X-WR-CALDESC:Évènements pour Formation Delta Neu
REFRESH-INTERVAL;VALUE=DURATION:PT1H
X-Robots-Tag:noindex
X-PUBLISHED-TTL:PT1H
BEGIN:VTIMEZONE
TZID:Europe/Paris
BEGIN:DAYLIGHT
TZOFFSETFROM:+0100
TZOFFSETTO:+0200
TZNAME:CEST
DTSTART:20200329T010000
END:DAYLIGHT
BEGIN:STANDARD
TZOFFSETFROM:+0200
TZOFFSETTO:+0100
TZNAME:CET
DTSTART:20201025T010000
END:STANDARD
BEGIN:DAYLIGHT
TZOFFSETFROM:+0100
TZOFFSETTO:+0200
TZNAME:CEST
DTSTART:20210328T010000
END:DAYLIGHT
BEGIN:STANDARD
TZOFFSETFROM:+0200
TZOFFSETTO:+0100
TZNAME:CET
DTSTART:20211031T010000
END:STANDARD
BEGIN:DAYLIGHT
TZOFFSETFROM:+0100
TZOFFSETTO:+0200
TZNAME:CEST
DTSTART:20220327T010000
END:DAYLIGHT
BEGIN:STANDARD
TZOFFSETFROM:+0200
TZOFFSETTO:+0100
TZNAME:CET
DTSTART:20221030T010000
END:STANDARD
END:VTIMEZONE
BEGIN:VEVENT
DTSTART;VALUE=DATE:20211104
DTEND;VALUE=DATE:20211105
DTSTAMP:20260424T213719
CREATED:20201027T141140Z
LAST-MODIFIED:20210805T132142Z
UID:4920-1635984000-1636070399@formation.delta-neu.fr
SUMMARY:Acoustique pour tous
DESCRIPTION:Détails sur la formation : ACOUSTIQUE POUR TOUS (CETIAT\, CETIM ou CERMAT)
URL:https://formation.delta-neu.fr/session/acoustique-pour-tous-6/
LOCATION:CETIM Senlis\, 52 avenue Félix Louat\, SENLIS\, 60304\, France
CATEGORIES:Acoustique pour tous
END:VEVENT
END:VCALENDAR